BEGIN:VCALENDAR
VERSION:2.0
PRODID:-//The PAC | Performing Arts Centre - ECPv6.15.20//NONSGML v1.0//EN
CALSCALE:GREGORIAN
METHOD:PUBLISH
X-WR-CALNAME:The PAC | Performing Arts Centre
X-ORIGINAL-URL:https://hbkpac.co.uk
X-WR-CALDESC:Events for The PAC | Performing Arts Centre
REFRESH-INTERVAL;VALUE=DURATION:PT1H
X-Robots-Tag:noindex
X-PUBLISHED-TTL:PT1H
BEGIN:VTIMEZONE
TZID:UTC
BEGIN:STANDARD
TZOFFSETFROM:+0000
TZOFFSETTO:+0000
TZNAME:UTC
DTSTART:20250101T000000
END:STANDARD
END:VTIMEZONE
BEGIN:VEVENT
DTSTART;TZID=UTC:20260509T193000
DTEND;TZID=UTC:20260509T223000
DTSTAMP:20260420T012055
CREATED:20260327T102956Z
LAST-MODIFIED:20260327T103255Z
UID:900-1778355000-1778365800@hbkpac.co.uk
SUMMARY:Chuckl. Huntingdon Comedy Club at the PAC with Paul Zerdin\, Larry Dean & Tal Davies & Darius Davies
DESCRIPTION:Get ready for an unforgettable night of live comedy at The PAC — After a string of sold-out clubs in 2025\, we return with our biggest show yet\, a TRIPLE HEADLINER showcase. Featuring two of our favourite headliners and two of the very best comedians of the circuit\, all squeezed into a single evening of comedy. \nFeaturing:\n \nPaul Zerdin\nAs seen on: America’s Got Talent (Winner)\, The Royal Variety Performance. A world-class ventriloquist with instantly-loveable characters and rapid-fire crowd work\, properly feel-good and hilarious.\nLarry Dean\nAs seen on: Live at the Apollo (BBCTwo)\, Roast Battle (Comedy Central)\, Live from the Comedy Store. Award-winning Scottish comedian with a cheeky charm and a blistering joke rate.\nDarius Davies\nOne of the UK’s best MCs\, a high-energy comic and MC with huge presence and quick\, crowd-pleasing punchlines. Book your tickets early to secure the best seats in the house. This is one show you won’t want to miss!\nTal Davies\nAs seen on: BBC New Comedy Awards (Finalist); writing credit on the BBC sitcom The Break. Bright\, punchy stand-up with a likeable stage presence and smart\, modern material.\nFor full T&C’s head over to www.chuckl.co.uk
URL:https://hbkpac.co.uk/event/chuckl-huntingdon-comedy-club-at-the-pac-with-paul-zerdin-larry-dean-tal-davies-darius-davies/
LOCATION:PAC | Performing Arts Centre\, Hinchingbrooke School\, Huntingdon\, PE29 3BN\, United Kingdom
CATEGORIES:Comedy
ATTACH;FMTTYPE=image/png:https://hbkpac.co.uk/wp-content/uploads/2026/03/Huntingdon-May-Sq-scaled.png
END:VEVENT
BEGIN:VEVENT
DTSTART;TZID=UTC:20260516T080000
DTEND;TZID=UTC:20260517T170000
DTSTAMP:20260420T012055
CREATED:20260327T110501Z
LAST-MODIFIED:20260327T110813Z
UID:906-1778918400-1779037200@hbkpac.co.uk
SUMMARY:BEE AWESOME
DESCRIPTION:Bees Dance Academy come together for their 13th annual dance show.\nBee Awesome. \nChildren aged from 2 years old take to the stage in variety of dances in  Ballet\, Tap\, Acro\, Jazz\, Lyrical\, Commercial and Cheer.
URL:https://hbkpac.co.uk/event/bee-awesome/
LOCATION:PAC | Performing Arts Centre\, Hinchingbrooke School\, Huntingdon\, PE29 3BN\, United Kingdom
CATEGORIES:Dance
ATTACH;FMTTYPE=image/jpeg:https://hbkpac.co.uk/wp-content/uploads/2026/03/279366458_446944787233733_1926132722644323473_n.jpg
END:VEVENT
BEGIN:VEVENT
DTSTART;TZID=UTC:20260524T120000
DTEND;TZID=UTC:20260524T170000
DTSTAMP:20260420T012055
CREATED:20260327T102047Z
LAST-MODIFIED:20260327T110715Z
UID:896-1779624000-1779642000@hbkpac.co.uk
SUMMARY:Colman Creative Academy proudly presents The Icon Era
DESCRIPTION:Get ready for an unforgettable show experience as Colman Creative Academy proudly presents The Icon Era. \nThe Icon Era is a high-energy\, feel-good production celebrating iconic music\, legendary performers\, and the power of the next generation of stars. Featuring dancers\, performers\, and circus artists from across the academy\, this show brings together passion\, creativity\, and months of hard work into one incredible performance. Audiences can expect a vibrant mix of dance\, theatre\, and performance styles\, stunning routines\, powerful music\, and unforgettable stage moments as our students light up the stage. \nThis show is a celebration of confidence\, growth\, teamwork\, and everything our performers have been working towards. \n \n Tickets go on sale 1st March from Coleman Creative
URL:https://hbkpac.co.uk/event/896/
LOCATION:PAC | Performing Arts Centre\, Hinchingbrooke School\, Huntingdon\, PE29 3BN\, United Kingdom
CATEGORIES:Dance
ATTACH;FMTTYPE=image/webp:https://hbkpac.co.uk/wp-content/uploads/2026/03/OIP.webp
ORGANIZER;CN="Coleman Creative Academy":MAILTO:team@colmancreative.co.uk
END:VEVENT
BEGIN:VEVENT
DTSTART;TZID=UTC:20260801T193000
DTEND;TZID=UTC:20260801T233000
DTSTAMP:20260420T012055
CREATED:20260327T111956Z
LAST-MODIFIED:20260327T111956Z
UID:915-1785612600-1785627000@hbkpac.co.uk
SUMMARY:Drag Bingo
DESCRIPTION:More details coming soon.
URL:https://hbkpac.co.uk/event/drag-bingo/
LOCATION:PAC | Performing Arts Centre\, Hinchingbrooke School\, Huntingdon\, PE29 3BN\, United Kingdom
CATEGORIES:Bingo
ATTACH;FMTTYPE=image/webp:https://hbkpac.co.uk/wp-content/uploads/2026/03/OIP-1.webp
END:VEVENT
BEGIN:VEVENT
DTSTART;TZID=UTC:20260926T193000
DTEND;TZID=UTC:20260926T223000
DTSTAMP:20260420T012055
CREATED:20260327T111355Z
LAST-MODIFIED:20260327T111355Z
UID:912-1790451000-1790461800@hbkpac.co.uk
SUMMARY:Chuckl. Huntingdon Comedy Club at the PAC: Headliner Chris McCausland
DESCRIPTION:Get ready for an unforgettable night of comedy in Huntingdon\, featuring the one and only Chris McCausland.\nChris McCausland has been performing stand-up for two decades and is a regular face on British television\, including winning Strictly Come Dancing.\nHe is an established favourite on such flagship comedy shows as Have I Got News for You\, Would I Lie to You?\, QI\, The last Leg\, and 8 out of 10 Cats Does Countdown.\nHe has appeared on Live at the Apollo three times\, taking on the hosting duties in 2021\, a year that also saw him make his highly acclaimed debut appearance on The Royal Variety Performance at The Royal Albert hall.\nJoining Chris will be a stellar supporting lineup of some of the best stand-ups on the circuit today\, all brought to you by Chuckl. – the UK’s premier comedy club.\nBook your tickets early to secure the best seats in the house. This is one you won’t want to miss!
URL:https://hbkpac.co.uk/event/chuckl-huntingdon-comedy-club-at-the-pac-headliner-chris-mccausland/
LOCATION:PAC | Performing Arts Centre\, Hinchingbrooke School\, Huntingdon\, PE29 3BN\, United Kingdom
CATEGORIES:Comedy
ATTACH;FMTTYPE=image/png:https://hbkpac.co.uk/wp-content/uploads/2026/03/September-Huntingdon-Sq-scaled.png
END:VEVENT
END:VCALENDAR